BEGIN:VCALENDAR
VERSION:2.0
PRODID:-//eventon.com NONSGML v1.0//EN
CALSCALE:GREGORIAN
METHOD:PUBLISH
BEGIN:VEVENT
UID:69e88e1fc022e
DTSTAMP:20260422T090015Z
DTSTART:20241222T210000Z
DTEND:20241222T230000Z
LOCATION:Pine Hills Nursery 7434 Cuevas Rd
SUMMARY:Snip & Sip Christmas Centerpiece
DESCRIPTION:\nhttps://pinehillsnursery.com/events-directory/snip-amp-sip-ch
 ristmas-centerpiece/
URL:https://pinehillsnursery.com/events-directory/snip-amp-sip-christmas-centerpiece/
END:VEVENT
END:VCALENDAR