BEGIN:VCALENDAR
VERSION:2.0
PRODID:-//eventon.com NONSGML v1.0//EN
CALSCALE:GREGORIAN
METHOD:PUBLISH
BEGIN:VEVENT
UID:69e8e58d8de61
DTSTAMP:20260422T151317Z
DTSTART:20260407T130000Z
DTEND:20260407T163000Z
LOCATION:
SUMMARY:Toddler Tuesday!
DESCRIPTION:\nhttps://pinehillsnursery.com/events-directory/toddler-tuesday
 /var/ri-8.l-L1
URL:https://pinehillsnursery.com/events-directory/toddler-tuesday/var/ri-8.l-L1
END:VEVENT
END:VCALENDAR