BEGIN:VCALENDAR
VERSION:2.0
PRODID:-//eventon.com NONSGML v1.0//EN
CALSCALE:GREGORIAN
METHOD:PUBLISH
BEGIN:VEVENT
UID:69e8e4c690e25
DTSTAMP:20260422T150958Z
DTSTART:20260602T130000Z
DTEND:20260602T163000Z
LOCATION:
SUMMARY:Toddler Tuesday!
DESCRIPTION:\nhttps://pinehillsnursery.com/events-directory/toddler-tuesday
 /var/ri-10.l-L1
URL:https://pinehillsnursery.com/events-directory/toddler-tuesday/var/ri-10.l-L1
END:VEVENT
END:VCALENDAR